BEGIN:VCALENDAR
VERSION:2.0
PRODID:-//eventon.com NONSGML v1.0//EN
CALSCALE:GREGORIAN
METHOD:PUBLISH
BEGIN:VEVENT
UID:69ecae9871051
DTSTAMP:20260425T120752Z
DTSTART:20260808T200000Z
DTEND:20260809T000000Z
LOCATION:
SUMMARY:August Summer Splash Day
DESCRIPTION:Summer Splash Days Second Saturday\,  August 8\,  1-5pm FREE! F
 un idea for escaping the heat. Free Pop-up water park downtown Phoenix. Div
 e into summer fun at Alwun House's Art Park! Join us for a FREE pop-up wate
 r park extravaganza at 12th St and Diamond St. Splash down our towering 24-
 foot[..]\nhttps://alwunhouse.org/events/august-summer-splash-day-2/
URL:https://alwunhouse.org/events/august-summer-splash-day-2/
END:VEVENT
END:VCALENDAR