BEGIN:VCALENDAR
VERSION:2.0
PRODID:-//eventon.com NONSGML v1.0//EN
CALSCALE:GREGORIAN
METHOD:PUBLISH
BEGIN:VEVENT
UID:69ecaf3801589
DTSTAMP:20260425T121032Z
DTSTART:20260711T200000Z
DTEND:20260712T000000Z
LOCATION:
SUMMARY:July Summer Splash Day
DESCRIPTION:Summer Splash Days Second Saturday\,  July 11\,  1-5pm FREE! Fu
 n idea for escaping the heat. Free Pop-up water park downtown Phoenix. Dive
  into summer fun at Alwun House's Art Park! Join us for a FREE pop-up water
  park extravaganza at 12th St and Diamond St. Splash down our towering 24-f
 oot[..]\nhttps://alwunhouse.org/events/july-summer-splash-day-2/
URL:https://alwunhouse.org/events/july-summer-splash-day-2/
END:VEVENT
END:VCALENDAR