BEGIN:VCALENDAR
VERSION:2.0
PRODID:-//eventon.com NONSGML v1.0//EN
CALSCALE:GREGORIAN
METHOD:PUBLISH
BEGIN:VEVENT
UID:69ecae87b3d72
DTSTAMP:20260425T120735Z
DTSTART:20260613T200000Z
DTEND:20260614T000000Z
LOCATION:
SUMMARY:June Summer Splash Day
DESCRIPTION:Summer Splash Days Second Saturday\,  June 13\,  1-5pm\,  FREE 
 Fun idea for escaping the heat. Free Pop-up water park downtown Phoenix. Di
 ve into summer fun at Alwun House's Art Park! Join us for a FREE pop-up wat
 er park extravaganza at 12th St and Diamond St. Splash down our towering 24
 -foot[..]\nhttps://alwunhouse.org/events/june-summer-splash-day-2/
URL:https://alwunhouse.org/events/june-summer-splash-day-2/
END:VEVENT
END:VCALENDAR