BEGIN:VCALENDAR
VERSION:2.0
PRODID:-//eventon.com NONSGML v1.0//EN
CALSCALE:GREGORIAN
METHOD:PUBLISH
BEGIN:VEVENT
UID:69e73e853e504
DTSTAMP:20260421T090821Z
DTSTART:20250913T010000Z
DTEND:20250927T010000Z
LOCATION:
SUMMARY:Eyedentité
DESCRIPTION:Open your eyes—literally—to a world within worlds. Photogra
 pher Haley Nishida magnifies the mystery of the human iris\,  transforming 
 each gaze into a vivid portal. At the center of these large-scale photograp
 hs\,  the pupil reveals unexpected landscapes—golden fields of sunflowers
 \,  towering mountains\,  and more—juxtaposed against the intricate textu
 res and colors of[..]\nhttps://alwunhouse.org/events/eyedentite/
URL:https://alwunhouse.org/events/eyedentite/
END:VEVENT
END:VCALENDAR