BEGIN:VCALENDAR
VERSION:2.0
PRODID:-//eventon.com NONSGML v1.0//EN
CALSCALE:GREGORIAN
METHOD:PUBLISH
BEGIN:VEVENT
UID:69e743590f3ea
DTSTAMP:20260421T092857Z
DTSTART:20250621T200000Z
DTEND:20250622T000000Z
LOCATION:
SUMMARY:JUNE SUMMER SPLASH DAY
DESCRIPTION:Dive into summer fun at Alwun House's Art Park! Join us for a F
 REE pop-up water park extravaganza at 12th St and Diamond St. Splash down o
 ur towering 24-foot waterslide\,  relax in the cool breeze\,  and let the l
 ittle ones enjoy the doggo and toddler-friendly splash pad. We've got super
 [..]\nhttps://alwunhouse.org/events/june-summer-splash-day/
URL:https://alwunhouse.org/events/june-summer-splash-day/
END:VEVENT
END:VCALENDAR