BEGIN:VCALENDAR
VERSION:2.0
PRODID:-//eventon.com NONSGML v1.0//EN
CALSCALE:GREGORIAN
METHOD:PUBLISH
BEGIN:VEVENT
UID:69e73e53b00bd
DTSTAMP:20260421T090731Z
DTSTART:20241101T190000Z
DTEND:20241123T010000Z
LOCATION:
SUMMARY:Esa Es La Tirada
DESCRIPTION:Esa Es La Tirada (A Long Shot) Fernando Cabrera Gonzalez will s
 howcase his artistic evolution over the years since his first exhibit in 20
 16. You need to see this gallery filled with his bright use of color and la
 yered symbolism throughout the exhibit. "Esa Es La Tirada" is a Mexican[..]
 \nhttps://alwunhouse.org/events/esa-es-la-tirada/
URL:https://alwunhouse.org/events/esa-es-la-tirada/
END:VEVENT
END:VCALENDAR